BEGIN:VCALENDAR
VERSION:2.0
PRODID:-//Koalas.org.au - ECPv6.1.3//NONSGML v1.0//EN
CALSCALE:GREGORIAN
METHOD:PUBLISH
X-ORIGINAL-URL:https://mpkoalas.org.au
X-WR-CALDESC:Events for Koalas.org.au
REFRESH-INTERVAL;VALUE=DURATION:PT1H
X-Robots-Tag:noindex
X-PUBLISHED-TTL:PT1H
BEGIN:VTIMEZONE
TZID:UTC
BEGIN:STANDARD
TZOFFSETFROM:+0000
TZOFFSETTO:+0000
TZNAME:UTC
DTSTART:20200101T000000
END:STANDARD
END:VTIMEZONE
BEGIN:VEVENT
DTSTART;TZID=UTC:20210411T160000
DTEND;TZID=UTC:20210411T173000
DTSTAMP:20260424T182855
CREATED:20210212T055352Z
LAST-MODIFIED:20210407T005415Z
UID:18896-1618156800-1618162200@mpkoalas.org.au
SUMMARY:MPKC Group Meeting – April 2021
DESCRIPTION:Monthly Group Meeting via zoom (MPKC members only). \nTo become a member CLICK HERE
URL:https://mpkoalas.org.au/https-www-mpkoalas-org-au-projects-events/mpkc-group-meeting-april/
LOCATION:Zoom meeting
ATTACH;FMTTYPE=image/jpeg:https://mpkoalas.org.au/wp-content/uploads/2020/08/group-of-koalas-1.jpg
END:VEVENT
BEGIN:VEVENT
DTSTART;TZID=UTC:20210328T090000
DTEND;TZID=UTC:20210328T140000
DTSTAMP:20260424T182855
CREATED:20210212T054938Z
LAST-MODIFIED:20210312T013452Z
UID:18894-1616922000-1616940000@mpkoalas.org.au
SUMMARY:Koala Habitat Restoration Day - Arthurs Seat State Park
DESCRIPTION:Spend the morning with us to maintain and improve koala habitat in the beautiful Arthurs Seat State Park\, Rosebud.  This is a great opportunity to learn about our environment and to spot local wildlife\, including koalas\, while helping us to remove invasive weeds. \nImportant Information: It is important you wear long pants and closed shoes as we will be walking through bush areas. Please bring sunscreen\, a hat\, gardening gloves\, water and snacks. We have a good chance of spotting wildlife in this area so don’t forget your camera! We will provide all tools and hand sanitiser. Please follow state government COVID restrictions. \nPlease park at the end of Marion Rd\, Rosebud at the entrance to Arthurs Seat State Park. \nYou must register your attendance via the Eventbrite link below. Please only register if you are definitely attending. Spaces limited.
URL:https://mpkoalas.org.au/https-www-mpkoalas-org-au-projects-events/save-the-date-koala-habitat-restoration-day-arthurs-seat-state-park/
LOCATION:Arthurs Seat State Park
ATTACH;FMTTYPE=image/jpeg:https://mpkoalas.org.au/wp-content/uploads/2021/01/conservation-days-image.jpg
END:VEVENT
BEGIN:VEVENT
DTSTART;TZID=UTC:20210313T110000
DTEND;TZID=UTC:20210313T190000
DTSTAMP:20260424T182855
CREATED:20210212T053544Z
LAST-MODIFIED:20210212T054114Z
UID:18886-1615633200-1615662000@mpkoalas.org.au
SUMMARY:Womindjeka Balnarring Ngargee (Festival)
DESCRIPTION:Come and chat to us about all things koala in beautiful Balnarring Beach. More info here: Womin Djeka – Balnarring Ngargee (balnarringfestival.com.au)
URL:https://mpkoalas.org.au/https-www-mpkoalas-org-au-projects-events/womindjeka-balnarring-ngargee-festival/
LOCATION:BALNARRING BEACH\, ROBERTSON PARK AND CAMPING RESERVE
ATTACH;FMTTYPE=image/jpeg:https://mpkoalas.org.au/wp-content/uploads/2021/02/Logo.jpg
END:VEVENT
BEGIN:VEVENT
DTSTART;TZID=UTC:20210307T090000
DTEND;TZID=UTC:20210307T170000
DTSTAMP:20260424T182855
CREATED:20210212T053114Z
LAST-MODIFIED:20210212T054233Z
UID:18883-1615107600-1615136400@mpkoalas.org.au
SUMMARY:Bunnings Sausage Sizzle Fundraiser - Rosebud Bunnings
DESCRIPTION:Come and chat to us about koalas and help us raise funds for our group.
URL:https://mpkoalas.org.au/https-www-mpkoalas-org-au-projects-events/bunnings-sausage-sizzle-fundraiser-rosebud-bunnings/
LOCATION:Bunnings Rosebud\, 282 Boneo Rd\, Rosebud\, VIC\, 3939\, Australia
ATTACH;FMTTYPE=image/jpeg:https://mpkoalas.org.au/wp-content/uploads/2020/09/Bunnings.jpg
ORGANIZER;CN="Mornington%20Peninsula%20Koala%20Conservation":MAILTO:mpkoalatreeplanting@outlook.com
END:VEVENT
BEGIN:VEVENT
DTSTART;TZID=UTC:20210306T140000
DTEND;TZID=UTC:20210306T153000
DTSTAMP:20260424T182855
CREATED:20210212T052615Z
LAST-MODIFIED:20210222T053032Z
UID:18881-1615039200-1615044600@mpkoalas.org.au
SUMMARY:MPKC Group Meeting – March
DESCRIPTION:Monthly Group Meeting via zoom (MPKC members only). \nTo become a member CLICK HERE
URL:https://mpkoalas.org.au/https-www-mpkoalas-org-au-projects-events/mpkc-group-meeting-march-2021/
LOCATION:Zoom meeting
ATTACH;FMTTYPE=image/jpeg:https://mpkoalas.org.au/wp-content/uploads/2020/08/group-of-koalas-1.jpg
END:VEVENT
BEGIN:VEVENT
DTSTART;TZID=UTC:20210221T090000
DTEND;TZID=UTC:20210221T140000
DTSTAMP:20260424T182855
CREATED:20210122T032557Z
LAST-MODIFIED:20210211T074535Z
UID:18857-1613898000-1613916000@mpkoalas.org.au
SUMMARY:Koala Habitat Restoration Day - Arthurs Seat State Park
DESCRIPTION:Spend the morning with us to maintain and improve koala habitat in the beautiful Arthurs Seat State Park\, Rosebud.  This is a great opportunity to learn about our environment and to spot local wildlife\, including koalas\, while helping us to remove invasive weeds. \nImportant Information: It is important you wear long pants and closed shoes as we will be walking through bush areas. Please bring sunscreen\, a hat\, gardening gloves\, water and snacks. We have a good chance of spotting wildlife in this area so don’t forget your camera! We will provide all tools and hand sanitiser. Please follow state government COVID restrictions. \nPlease park at the end of Seabrook Ave\, Rosebud at the entrance to Arthurs Seat State Park.  We will meet at the park entrance gate. Alternative parking is at the end of Marion Rd\, Rosebud. You can walk into the park from there through a gate and then immediately turn right and walk downhill past the last property on Marion Rd until you get to Seabrook Ave. \nYou must register your attendance via the eventbrite link below. Please only register if you are definitely attending. Spaces limited.
URL:https://mpkoalas.org.au/https-www-mpkoalas-org-au-projects-events/koala-conservation-day/
LOCATION:Arthurs Seat State Park – Hillview Community Reserve\, Dromana
CATEGORIES:Environment
ATTACH;FMTTYPE=image/jpeg:https://mpkoalas.org.au/wp-content/uploads/2021/01/conservation-days-image.jpg
ORGANIZER;CN="Mornington%20Peninsula%20Koala%20Conservation":MAILTO:mpkoalatreeplanting@outlook.com
END:VEVENT
BEGIN:VEVENT
DTSTART;TZID=UTC:20210207T140000
DTEND;TZID=UTC:20210207T150000
DTSTAMP:20260424T182855
CREATED:20210116T025437Z
LAST-MODIFIED:20210116T061805Z
UID:18833-1612706400-1612710000@mpkoalas.org.au
SUMMARY:MPKC Group Meeting – February 2021
DESCRIPTION:Monthly Group Meeting via zoom (MPKC members only). \nTo become a member CLICK HERE
URL:https://mpkoalas.org.au/https-www-mpkoalas-org-au-projects-events/mpkc-group-meeting-february-2021/
LOCATION:Zoom meeting
ATTACH;FMTTYPE=image/jpeg:https://mpkoalas.org.au/wp-content/uploads/2020/08/group-of-koalas-e1606462899541.jpg
END:VEVENT
BEGIN:VEVENT
DTSTART;TZID=UTC:20201206T140000
DTEND;TZID=UTC:20201206T153000
DTSTAMP:20260424T182855
CREATED:20201017T024902Z
LAST-MODIFIED:20201129T092446Z
UID:18662-1607263200-1607268600@mpkoalas.org.au
SUMMARY:MPKC Group Meeting - December 2020
DESCRIPTION:Seamists Drive\, Arthurs Seat State Park\, Arthurs Seat
URL:https://mpkoalas.org.au/https-www-mpkoalas-org-au-projects-events/mpkc-group-meeting-2/
ATTACH;FMTTYPE=image/jpeg:https://mpkoalas.org.au/wp-content/uploads/2020/08/group-of-koalas-e1606462899541.jpg
END:VEVENT
BEGIN:VEVENT
DTSTART;TZID=UTC:20201108T140000
DTEND;TZID=UTC:20201108T153000
DTSTAMP:20260424T182855
CREATED:20201017T024558Z
LAST-MODIFIED:20201017T041342Z
UID:18660-1604844000-1604849400@mpkoalas.org.au
SUMMARY:MPKC Group Meeting - November 2020
DESCRIPTION:Monthly group meeting via zoom
URL:https://mpkoalas.org.au/https-www-mpkoalas-org-au-projects-events/mpkc-group-meeting/
LOCATION:Zoom meeting
ATTACH;FMTTYPE=image/jpeg:https://mpkoalas.org.au/wp-content/uploads/2020/08/group-of-koalas-e1606462899541.jpg
END:VEVENT
END:VCALENDAR